BEGIN:VCALENDAR
VERSION:2.0
PRODID:-//bsa-fas.ch Events Calendar//www.bsa-fas.ch//
BEGIN:VEVENT
SUMMARY:117th General Assembly FSA 24/25 Mai 2024 Basle
DTSTART:20240524T100000
DTEND:20240525T140000
DTSTAMP:20240525T140000Z
UID:594.event.events.ch.bsa-fas.www
END:VEVENT
END:VCALENDAR
