BEGIN:VCALENDAR
VERSION:2.0
PRODID:-//bsa-fas.ch Events Calendar//www.bsa-fas.ch//
BEGIN:VEVENT
SUMMARY:Mai-Salon: Lauben & Logen
DTSTART:20240530T143000
DTEND:20240530T220000
DTSTAMP:20240530T220000Z
UID:585.event.events.ch.bsa-fas.www
LOCATION:Mai-Salon: Lauben & Logen
END:VEVENT
END:VCALENDAR
