BEGIN:VCALENDAR
VERSION:2.0
PRODID:-//bsa-fas.ch Events Calendar//www.bsa-fas.ch//
BEGIN:VEVENT
SUMMARY:Aufnahmesitzung
DTSTART:20231130T190000
DTEND:20231130T210000
DTSTAMP:20231130T210000Z
UID:563.event.events.ch.bsa-fas.www
END:VEVENT
END:VCALENDAR
