BEGIN:VCALENDAR
VERSION:2.0
PRODID:-//bsa-fas.ch Events Calendar//www.bsa-fas.ch//
BEGIN:VEVENT
SUMMARY:Mitgliederversammlung Oktober
DTSTART:20171030T172157
DTEND:20171030T172157
DTSTAMP:20171030T172157Z
UID:56.event.events.ch.bsa-fas.www
END:VEVENT
END:VCALENDAR
