BEGIN:VCALENDAR
VERSION:2.0
PRODID:-//bsa-fas.ch Events Calendar//www.bsa-fas.ch//
BEGIN:VEVENT
SUMMARY:BSA Hauptversammlung OG Zentralschweiz
DTSTART:20210909T170000
DTEND:20210909T000000
DTSTAMP:20210909T000000Z
UID:524.event.events.ch.bsa-fas.www
LOCATION:Rotkreuz\, Campus HSLU Suurstoffi
END:VEVENT
END:VCALENDAR
