BEGIN:VCALENDAR
VERSION:2.0
PRODID:-//bsa-fas.ch Events Calendar//www.bsa-fas.ch//
BEGIN:VEVENT
SUMMARY:Mitgliederversammlung August
DTSTART:20210819T180000
DTEND:20210819T200000
DTSTAMP:20210819T200000Z
UID:511.event.events.ch.bsa-fas.www
END:VEVENT
END:VCALENDAR
