BEGIN:VCALENDAR
VERSION:2.0
PRODID:-//bsa-fas.ch Events Calendar//www.bsa-fas.ch//
BEGIN:VEVENT
SUMMARY:BSA Ostschweiz - Hauptversammlung Juli 2020
DTSTART:20200702T170000
DTEND:20200702T220000
DTSTAMP:20200702T220000Z
UID:471.event.events.ch.bsa-fas.www
END:VEVENT
END:VCALENDAR
