BEGIN:VCALENDAR
VERSION:2.0
PRODID:-//bsa-fas.ch Events Calendar//www.bsa-fas.ch//
BEGIN:VEVENT
SUMMARY:Freiburger Architekturforum – Furrer Jud Architekten\, Zurich
DTSTART:20200225T183000
DTEND:20200225T203000
DTSTAMP:20200225T203000Z
UID:444.event.events.ch.bsa-fas.www
LOCATION:Nouveau Monde\, Fribourg
END:VEVENT
END:VCALENDAR
