BEGIN:VCALENDAR
VERSION:2.0
PRODID:-//bsa-fas.ch Events Calendar//www.bsa-fas.ch//
BEGIN:VEVENT
SUMMARY:BSA Surprise 2: (Huber Waser Mühlebach)
DTSTART:20200213T183000
DTEND:20200213T000000
DTSTAMP:20200213T000000Z
UID:442.event.events.ch.bsa-fas.www
LOCATION:Werft SGV/Shiptec\, Werftestrasse 5\, 6003 Luzern
END:VEVENT
END:VCALENDAR
