BEGIN:VCALENDAR
VERSION:2.0
PRODID:-//bsa-fas.ch Events Calendar//www.bsa-fas.ch//
BEGIN:VEVENT
SUMMARY:Architekturforum Bern – Carte blanche «Braucht Bern die Viererf
 eldbrücke?»
DTSTART:20191203T190000
DTEND:20191203T210000
DTSTAMP:20191203T210000Z
UID:426.event.events.ch.bsa-fas.www
LOCATION:Aula Schule für Gestaltung\, Schänzlihalde 31\, Bern
END:VEVENT
END:VCALENDAR
