BEGIN:VCALENDAR
VERSION:2.0
PRODID:-//bsa-fas.ch Events Calendar//www.bsa-fas.ch//
BEGIN:VEVENT
SUMMARY:sia Regionalgruppe Biel-Seeland – Besichtigung Siedlung "Bassbel
 t" in Pieterlen
DTSTART:20190905T170000
DTEND:20190905T190000
DTSTAMP:20190905T190000Z
UID:401.event.events.ch.bsa-fas.www
LOCATION:Bassbeltweg 11a\, Carports\, Pieterlen
END:VEVENT
END:VCALENDAR
