BEGIN:VCALENDAR
VERSION:2.0
PRODID:-//bsa-fas.ch Events Calendar//www.bsa-fas.ch//
BEGIN:VEVENT
SUMMARY:87. Hauptversammlung des BSA Basel
DTSTART:20171124T160000
DTEND:20171124T230000
DTSTAMP:20171124T230000Z
UID:36.event.events.ch.bsa-fas.www
END:VEVENT
END:VCALENDAR
