BEGIN:VCALENDAR
VERSION:2.0
PRODID:-//bsa-fas.ch Events Calendar//www.bsa-fas.ch//
BEGIN:VEVENT
SUMMARY:Soirée spéciale Alice A la Buvette
DTSTART:20190528T180000
DTEND:20190528T200000
DTSTAMP:20190528T200000Z
UID:359.event.events.ch.bsa-fas.www
LOCATION:Buvette Prouvé Novarina Ketoff\, Evian
END:VEVENT
END:VCALENDAR
