BEGIN:VCALENDAR
VERSION:2.0
PRODID:-//bsa-fas.ch Events Calendar//www.bsa-fas.ch//
BEGIN:VEVENT
SUMMARY:Mitgliederversammlung Aufnahmen
DTSTART:20191121T173000
DTEND:20191121T230000
DTSTAMP:20191121T230000Z
UID:327.event.events.ch.bsa-fas.www
END:VEVENT
END:VCALENDAR
