BEGIN:VCALENDAR
VERSION:2.0
PRODID:-//bsa-fas.ch Events Calendar//www.bsa-fas.ch//
BEGIN:VEVENT
SUMMARY:Architekturforum Biel – Bergmeisterwolf
DTSTART:20190402T183000
DTEND:20190402T200000
DTSTAMP:20190402T200000Z
UID:315.event.events.ch.bsa-fas.www
LOCATION:Farelhaus - Oberer Quai 12\, 2502 Biel
END:VEVENT
END:VCALENDAR
