BEGIN:VCALENDAR
VERSION:2.0
PRODID:-//bsa-fas.ch Events Calendar//www.bsa-fas.ch//
BEGIN:VEVENT
SUMMARY:Architekturforum Thun – Cesar Zumthor / Haltmeier Kister Junge A
 rchitekten
DTSTART:20190227T183000
DTEND:20190227T200000
DTSTAMP:20190227T200000Z
UID:288.event.events.ch.bsa-fas.www
LOCATION:Halle 6 Thun
END:VEVENT
END:VCALENDAR
