BEGIN:VCALENDAR
VERSION:2.0
PRODID:-//bsa-fas.ch Events Calendar//www.bsa-fas.ch//
BEGIN:VEVENT
SUMMARY:Vortrag - «Das Parktheater Grenchen – ein frühes und einflussr
 eiches Kulturzentrum»
DTSTART:20181102T180000
DTEND:20181102T210000
DTSTAMP:20181102T210000Z
UID:275.event.events.ch.bsa-fas.www
LOCATION:Parktheater\, Lindenstrasse 41 in Grenchen
END:VEVENT
END:VCALENDAR
