BEGIN:VCALENDAR
VERSION:2.0
PRODID:-//bsa-fas.ch Events Calendar//www.bsa-fas.ch//
BEGIN:VEVENT
SUMMARY:Atuprix 18\, Vernissage Verleihung der Auszeichnungen
DTSTART:20181018T180000
DTEND:20181018T200000
DTSTAMP:20181018T200000Z
UID:270.event.events.ch.bsa-fas.www
LOCATION:Stadtsaal Kornhausforum Bern
END:VEVENT
END:VCALENDAR
