BEGIN:VCALENDAR
VERSION:2.0
PRODID:-//bsa-fas.ch Events Calendar//www.bsa-fas.ch//
BEGIN:VEVENT
SUMMARY:sia Regionalgruppe Biel-Seeland – 5à7\, Atelierturm
DTSTART:20180918T170000
DTEND:20180918T190000
DTSTAMP:20180918T190000Z
UID:250.event.events.ch.bsa-fas.www
LOCATION:Brühlstrasse 54\, 2503 Biel
END:VEVENT
END:VCALENDAR
