BEGIN:VCALENDAR
VERSION:2.0
PRODID:-//bsa-fas.ch Events Calendar//www.bsa-fas.ch//
BEGIN:VEVENT
SUMMARY:sia Sektion Bern – 5à7\, Umbau Autobahnwerkhof Bern
DTSTART:20180822T170000
DTEND:20180822T190000
DTSTAMP:20180822T190000Z
UID:247.event.events.ch.bsa-fas.www
LOCATION:Vorplatz Schermenweg 15\, 3014 Bern
END:VEVENT
END:VCALENDAR
