BEGIN:VCALENDAR
VERSION:2.0
PRODID:-//bsa-fas.ch Events Calendar//www.bsa-fas.ch//
BEGIN:VEVENT
SUMMARY:bsa - Vernissage Bern\, Wanderausstellung "Junge Denkmäler - Arch
 itektur des Aufbruchs"
DTSTART:20180607T180000
DTEND:20180607T200000
DTSTAMP:20180607T200000Z
UID:237.event.events.ch.bsa-fas.www
LOCATION:Meret Oppenheimbrunnen\, Bern
END:VEVENT
END:VCALENDAR
