BEGIN:VCALENDAR
VERSION:2.0
PRODID:-//bsa-fas.ch Events Calendar//www.bsa-fas.ch//
BEGIN:VEVENT
SUMMARY:Atelier des rencontres
DTSTART:20180425T183000
DTEND:20180425T213000
DTSTAMP:20180425T213000Z
UID:228.event.events.ch.bsa-fas.www
END:VEVENT
END:VCALENDAR
