BEGIN:VCALENDAR
VERSION:2.0
PRODID:-//bsa-fas.ch Events Calendar//www.bsa-fas.ch//
BEGIN:VEVENT
SUMMARY:Atelierbesuch bei Thomas Blank - Glaskünstler
DTSTART:20180525T180000
DTEND:20180525T200000
DTSTAMP:20180525T200000Z
UID:223.event.events.ch.bsa-fas.www
LOCATION:Vitromusée\, Au Château\, 1680 Romont
END:VEVENT
END:VCALENDAR
