BEGIN:VCALENDAR
VERSION:2.0
PRODID:-//bsa-fas.ch Events Calendar//www.bsa-fas.ch//
BEGIN:VEVENT
SUMMARY:Jetzt anmelden  zum BSA Sommerfest am 30.06.2018
DTSTART:20180630T150000
DTEND:20180630T200000
DTSTAMP:20180630T200000Z
UID:215.event.events.ch.bsa-fas.www
LOCATION:La Neuveville
END:VEVENT
END:VCALENDAR
