BEGIN:VCALENDAR
VERSION:2.0
PRODID:-//bsa-fas.ch Events Calendar//www.bsa-fas.ch//
BEGIN:VEVENT
SUMMARY:Architekturforum Bern - „Architektur und Pädagogik“ Thomas Fi
 scher\, Architekt & Dr. Urs Maurer\, Zürich
DTSTART:20180619T190000
DTEND:20180619T210000
DTSTAMP:20180619T210000Z
UID:152.event.events.ch.bsa-fas.www
END:VEVENT
END:VCALENDAR
