BEGIN:VCALENDAR
VERSION:2.0
PRODID:-//bsa-fas.ch Events Calendar//www.bsa-fas.ch//
BEGIN:VEVENT
SUMMARY:Architekturforum Biel – Theater A. Loos
DTSTART:20180508T183000
DTEND:20180508T220000
DTSTAMP:20180508T220000Z
UID:149.event.events.ch.bsa-fas.www
LOCATION:Farelhaus\, Oberer Quai 12\, 2502 Biel
END:VEVENT
END:VCALENDAR
