BEGIN:VCALENDAR
VERSION:2.0
PRODID:-//bsa-fas.ch Events Calendar//www.bsa-fas.ch//
BEGIN:VEVENT
SUMMARY:Architekturforum Biel - AXKA
DTSTART:20180227T183000
DTEND:20180227T162549
DTSTAMP:20180227T162549Z
UID:144.event.events.ch.bsa-fas.www
END:VEVENT
END:VCALENDAR
