BEGIN:VCALENDAR
VERSION:2.0
PRODID:-//bsa-fas.ch Events Calendar//www.bsa-fas.ch//
BEGIN:VEVENT
SUMMARY:Architekturforum Thun - Hutter Nüesch / Bernath+Widmer Junge Arch
 itekten
DTSTART:20180228T183000
DTEND:20180228T083251
DTSTAMP:20180228T083251Z
UID:131.event.events.ch.bsa-fas.www
END:VEVENT
END:VCALENDAR
