BEGIN:VCALENDAR
VERSION:2.0
PRODID:-//bsa-fas.ch Events Calendar//www.bsa-fas.ch//
BEGIN:VEVENT
SUMMARY:Basis Kunst und Bau - Gegenwärtige Praktiken der Stadt Bern
DTSTART:20171109T180000
DTEND:20171109T094811
DTSTAMP:20171109T094811Z
UID:118.event.events.ch.bsa-fas.www
END:VEVENT
END:VCALENDAR
