BEGIN:VCALENDAR
VERSION:2.0
PRODID:-//bsa-fas.ch Events Calendar//www.bsa-fas.ch//
BEGIN:VEVENT
SUMMARY:Biwak#20 Constructive Alps 2017 - Valenddas - nachhaltige Entwickl
 ung eines Bündner Bergdorfs
DTSTART:20171127T120000
DTEND:20171127T140000
DTSTAMP:20171127T140000Z
UID:112.event.events.ch.bsa-fas.www
END:VEVENT
END:VCALENDAR
