BEGIN:VCALENDAR
VERSION:2.0
PRODID:-//bsa-fas.ch Events Calendar//www.bsa-fas.ch//
BEGIN:VEVENT
SUMMARY:Forum Denkmalpflege - Das Ortsbild und seine Substanz.
DTSTART:20180223T171500
DTEND:20180223T190000
DTSTAMP:20180223T190000Z
UID:105.event.events.ch.bsa-fas.www
END:VEVENT
END:VCALENDAR
