BEGIN:VCALENDAR
VERSION:2.0
PRODID:-//bsa-fas.ch Events Calendar//www.bsa-fas.ch//
BEGIN:VEVENT
SUMMARY:Forum Denkmalpflege - Wie weit reicht\, wo endet der Zeugniswert? 
 Wirkung und Rückwirkung zwischen Baudenkmal und Umgebung.
DTSTART:20171027T171500
DTEND:20171027T190000
DTSTAMP:20171027T190000Z
UID:99.event.events.ch.bsa-fas.www
END:VEVENT
END:VCALENDAR
