BEGIN:VCALENDAR
VERSION:2.0
PRODID:-//bsa-fas.ch Events Calendar//www.bsa-fas.ch//
BEGIN:VEVENT
SUMMARY:ABAP - Vernissage "Frauen planen und bauen"
DTSTART:20171130T190000
DTEND:20171130T210000
DTSTAMP:20171130T210000Z
UID:87.event.events.ch.bsa-fas.www
END:VEVENT
END:VCALENDAR
