BEGIN:VCALENDAR
VERSION:2.0
PRODID:-//bsa-fas.ch Events Calendar//www.bsa-fas.ch//
BEGIN:VEVENT
SUMMARY:Architekturforum Thun - Ortsplanungsrevision Thun Stadtplanerin Be
 atrice Aebi
DTSTART:20171129T183000
DTEND:20171129T203000
DTSTAMP:20171129T203000Z
UID:83.event.events.ch.bsa-fas.www
END:VEVENT
END:VCALENDAR
