BEGIN:VCALENDAR
VERSION:2.0
PRODID:-//bsa-fas.ch Events Calendar//www.bsa-fas.ch//
BEGIN:VEVENT
SUMMARY:Architekturforum Biel – 30 Jahre Jubiläum
DTSTART:20171110T140000
DTEND:20171110T230000
DTSTAMP:20171110T230000Z
UID:81.event.events.ch.bsa-fas.www
END:VEVENT
END:VCALENDAR
