BEGIN:VCALENDAR
VERSION:2.0
PRODID:-//bsa-fas.ch Events Calendar//www.bsa-fas.ch//
BEGIN:VEVENT
SUMMARY:8. Ortsgruppenversammlung
DTSTART:20180308T183000
DTEND:20180308T000000
DTSTAMP:20180308T000000Z
UID:68.event.events.ch.bsa-fas.www
END:VEVENT
END:VCALENDAR
