BEGIN:VCALENDAR
VERSION:2.0
PRODID:-//bsa-fas.ch Events Calendar//www.bsa-fas.ch//
BEGIN:VEVENT
SUMMARY:2. Ortsgruppenversammlung
DTSTART:20170921T183000
DTEND:20170921T000000
DTSTAMP:20170921T000000Z
UID:64.event.events.ch.bsa-fas.www
END:VEVENT
END:VCALENDAR
