BEGIN:VCALENDAR
VERSION:2.0
PRODID:-//bsa-fas.ch Events Calendar//www.bsa-fas.ch//
BEGIN:VEVENT
SUMMARY:Architekturvortrag Schneider Türtscher\, Zürich
DTSTART:20171130T183000
DTEND:20171130T000000
DTSTAMP:20171130T000000Z
UID:63.event.events.ch.bsa-fas.www
END:VEVENT
END:VCALENDAR
