BEGIN:VCALENDAR
VERSION:2.0
PRODID:-//bsa-fas.ch Events Calendar//www.bsa-fas.ch//
BEGIN:VEVENT
SUMMARY:Juni-Labor: Hand an die Stadt legen
DTSTART:20250605T180000
DTEND:20250605T220000
DTSTAMP:20250605T220000Z
UID:608.event.events.ch.bsa-fas.www
LOCATION:«Büro der inneren Unruhe» des Forum Raumordnung Schweiz\, Tram
 strasse 7\, Suhr AG
END:VEVENT
END:VCALENDAR
