BEGIN:VCALENDAR
VERSION:2.0
PRODID:-//bsa-fas.ch Events Calendar//www.bsa-fas.ch//
BEGIN:VEVENT
SUMMARY:BSA-ZAGG-Reise
DTSTART:20240905T080000
DTEND:20240908T180000
DTSTAMP:20240908T180000Z
UID:589.event.events.ch.bsa-fas.www
END:VEVENT
END:VCALENDAR
