BEGIN:VCALENDAR
VERSION:2.0
PRODID:-//bsa-fas.ch Events Calendar//www.bsa-fas.ch//
BEGIN:VEVENT
SUMMARY:August-Salon: Wie wir zusammenarbeiten
DTSTART:20240829T190000
DTEND:20240829T220000
DTSTAMP:20240829T220000Z
UID:588.event.events.ch.bsa-fas.www
LOCATION:Cabaret Voltaire\, Spiegelgasse 1\, 8001 Zürich
END:VEVENT
END:VCALENDAR
