BEGIN:VCALENDAR
VERSION:2.0
PRODID:-//bsa-fas.ch Events Calendar//www.bsa-fas.ch//
BEGIN:VEVENT
SUMMARY:Juni-Spaziergang: «Glasi-Areal Bülach: Stadt oder Siedlung?»
DTSTART:20240627T170000
DTEND:20240627T220000
DTSTAMP:20240627T220000Z
UID:586.event.events.ch.bsa-fas.www
END:VEVENT
END:VCALENDAR
