BEGIN:VCALENDAR
VERSION:2.0
PRODID:-//bsa-fas.ch Events Calendar//www.bsa-fas.ch//
BEGIN:VEVENT
SUMMARY:RÉINVENTER LA DISCIPLINE - CHARLOTTE MALTERRE-BARTHES
DTSTART:20231002T173000
DTEND:20231002T203000
DTSTAMP:20231002T203000Z
UID:577.event.events.ch.bsa-fas.www
LOCATION:AUDITOIRE GREMAUD | HEIA-FR | BOULEVARD DE PÉROLLES 80 | 1700 FR
 IBOURG
END:VEVENT
END:VCALENDAR
