BEGIN:VCALENDAR
VERSION:2.0
PRODID:-//bsa-fas.ch Events Calendar//www.bsa-fas.ch//
BEGIN:VEVENT
SUMMARY:Stadtgespräch: Wie und bis wann wird Basel klimaneutral?
DTSTART:20221109T190000
DTEND:20221109T220000
DTSTAMP:20221109T220000Z
UID:552.event.events.ch.bsa-fas.www
LOCATION:UBS Kundenhalle\, Aeschenvorstadt 1\, 4051 Basel
END:VEVENT
END:VCALENDAR
