BEGIN:VCALENDAR
VERSION:2.0
PRODID:-//bsa-fas.ch Events Calendar//www.bsa-fas.ch//
BEGIN:VEVENT
SUMMARY:BSA OGV 5 (Weihnachtsanlass in Altdorf UR)
DTSTART:20211216T151500
DTEND:20211216T235500
DTSTAMP:20211216T235500Z
UID:532.event.events.ch.bsa-fas.www
LOCATION:Spitalplatz\, 6460 Altdorf
END:VEVENT
END:VCALENDAR
