BEGIN:VCALENDAR
VERSION:2.0
PRODID:-//bsa-fas.ch Events Calendar//www.bsa-fas.ch//
BEGIN:VEVENT
SUMMARY:Reden wir über Design gestern\, heute und morgen!
DTSTART:20211106T110000
DTEND:20211107T150000
DTSTAMP:20211107T150000Z
UID:529.event.events.ch.bsa-fas.www
LOCATION:Zentrum Paul Klee Bern
END:VEVENT
END:VCALENDAR
