BEGIN:VCALENDAR
VERSION:2.0
PRODID:-//bsa-fas.ch Events Calendar//www.bsa-fas.ch//
BEGIN:VEVENT
SUMMARY:OGV 6 / Vortrag 2 : kjr architekten\, Luzern
DTSTART:20220113T183000
DTEND:20220113T210000
DTSTAMP:20220113T210000Z
UID:526.event.events.ch.bsa-fas.www
LOCATION:Jazzkantine\, Grabenstrasse 8\, 6004 Luzern
END:VEVENT
END:VCALENDAR
