BEGIN:VCALENDAR
VERSION:2.0
PRODID:-//bsa-fas.ch Events Calendar//www.bsa-fas.ch//
BEGIN:VEVENT
SUMMARY:Baukultur und Stadt
DTSTART:20211110T090000
DTEND:20211110T183000
DTSTAMP:20211110T183000Z
UID:523.event.events.ch.bsa-fas.www
LOCATION:ETH Zürich-Hönggerberg\, Werner Siemens Auditorium\, Gebäude H
 IT\, Wolfgang-Pauli-Strasse 27\, 8093 Zürich
END:VEVENT
END:VCALENDAR
