BEGIN:VCALENDAR
VERSION:2.0
PRODID:-//bsa-fas.ch Events Calendar//www.bsa-fas.ch//
BEGIN:VEVENT
SUMMARY:Film: Demain – Towmorrow
DTSTART:20210325T180000
DTEND:20210325T200000
DTSTAMP:20210325T200000Z
UID:518.event.events.ch.bsa-fas.www
LOCATION:online
END:VEVENT
END:VCALENDAR
