BEGIN:VCALENDAR
VERSION:2.0
PRODID:-//bsa-fas.ch Events Calendar//www.bsa-fas.ch//
BEGIN:VEVENT
SUMMARY:Mitgliederversammlung Februar - wegen Corona abgesagt!
DTSTART:20210211T180000
DTEND:20210211T200000
DTSTAMP:20210211T200000Z
UID:516.event.events.ch.bsa-fas.www
END:VEVENT
END:VCALENDAR
